BEGIN:VCALENDAR
VERSION:2.0
PRODID:-//SE Talks - ECPv5.3.1.1//NONSGML v1.0//EN
CALSCALE:GREGORIAN
METHOD:PUBLISH
X-WR-CALNAME:SE Talks
X-ORIGINAL-URL:https://setalks.org
X-WR-CALDESC:Events for SE Talks
BEGIN:VTIMEZONE
TZID:UTC
BEGIN:STANDARD
TZOFFSETFROM:+0000
TZOFFSETTO:+0000
TZNAME:UTC
DTSTART:20210101T000000
END:STANDARD
TZID:Europe/Paris
BEGIN:DAYLIGHT
TZOFFSETFROM:+0100
TZOFFSETTO:+0200
TZNAME:CEST
DTSTART:20210328T010000
END:DAYLIGHT
BEGIN:STANDARD
TZOFFSETFROM:+0200
TZOFFSETTO:+0100
TZNAME:CET
DTSTART:20211031T010000
END:STANDARD
END:VTIMEZONE
BEGIN:VEVENT
DTSTART;TZID=UTC:20211104T123000
DTEND;TZID=UTC:20211104T130000
DTSTAMP:20260422T100852
CREATED:20211021T161147Z
LAST-MODIFIED:20211026T123217Z
UID:1173-1636029000-1636030800@setalks.org
SUMMARY:S2 -SE TALKS #1: Motivation for Entering Social Entrepreneurship
DESCRIPTION:SEtalks #1 – Motivation for Entering Social Entrepreneurship \n04 November from 12:30 PM\, UTC +1 \nZoom platform \n  \n🤩 Social entrepreneurship is a concept that has allured worldwide attention. It is no more a notion that there are certain people or enterprises that are doing good instead of making profits\, but an emerging concept that is taking its place under the sun as a new economic model that fosters change and facilitates transition towards a better society. \n📚 There are a lot of studies investigating the motivation of people for entering social entrepreneurship and operating a social enterprise. However\, we want to hear first-hand what was the motivation for our speakers. \n❓Was it the strong desire to change society? \n❓Was it the need to be socially responsible? \n❓Maybe wanting to make a difference in peoples’ lives? \nTo understand and explore the motivations of social entrepreneurs we seek the answer to the question: \n  \n❓What motivates people to engage in a social enterprise? \n  \nIf you would like to learn about the motivation for entering social entrepreneurship\, join us at our talk\, Thursday (04 November)\, 12:30h UTC +1. \n🎙 Join us at SEtalks #1 where we will discuss several topics: \n\nWhat was the motivation for becoming a social entrepreneur?\nHow was the idea for the social enterprise created?\nWhat are their current practices?\nWhat will be their future activities?\n\n🗣 Our speaker will be: \n\nElena Bozhinovska\, (Walkiie\, Skopje\, 🇲🇰)\n\n👨‍💻 The discussion will be moderated by Stefan Chichevaliev\, Executive Director of the Social Entrepreneurship Observatory (🇲🇰). \n🎥 The webinar will be in English and available through the Zoom platform. \n✍️ Link for registration: http://setalks.org/enrol-to-se-talks-1-season-2-motivation-for-entering-social-entrepreneurship/. \n🎯 We have launched the series of public discussions “SETalks” with an aim to bring closer the social entrepreneurship field to new and upcoming entrepreneurs and innovators\, to motivate young people to get involved in businesses with values that produce social impact. \n💡 You can find all previous SETalks here: \nhttps://youtube.com/playlist?list=PL9q6DvFEqK5kETE3NnfAOagCQdgmrEJUZ \n🚀 “SETalks” is organized and implemented by the Social Entrepreneurship Observatory. \n 
URL:https://setalks.org/events/s2-se-talks-1-motivation-for-entering-social-entrepreneurship/
LOCATION:Zoom
ATTACH;FMTTYPE=image/png:https://setalks.org/wp-content/uploads/2021/10/SE-TALKS-S2-1-MESE.png
ORGANIZER;CN="Social%20Entrepreneurship%20Observatory":MAILTO:office@seobservatory.org
END:VEVENT
BEGIN:VEVENT
DTSTART;TZID=Europe/Paris:20211118T123000
DTEND;TZID=Europe/Paris:20211118T133000
DTSTAMP:20260422T100852
CREATED:20211111T121039Z
LAST-MODIFIED:20211112T081439Z
UID:1211-1637238600-1637242200@setalks.org
SUMMARY:S2 -SE TALKS #2: Social Entrepreneurship and Eco-tourism
DESCRIPTION:SETalks #2 – Social Entrepreneurship and Eco-tourism \n18 November from 12:30 PM\, UTC +1 \nZoom platform \n  \n🤩 Social entrepreneurship is a concept that has allured worldwide attention. It is no more a notion that there are certain people or enterprises that are doing good instead of making profits\, but an emerging concept that is taking its place under the sun as a new economic model that fosters change and facilitates transition towards a better society. \n🚵‍♀️Eco-tourism is getting increased interest in the tourism sector. Eco-tourism is about uniting conservation\, communities\, and sustainable travel. It is one of the fastest-growing tourist requirements of late 📈. \n❗️According to The International Ecotourism Society (TIES)\, ecotourism can be defined as “responsible travel to natural areas that conserve the environment\, sustains the well-being of the local people\, and involves interpretation and education”. \nTo understand and explore how social entrepreneurship and eco-tourism go hand in hand we seek the answer to the question: \n  \n❓How social entrepreneurship can be combined with eco-tourism? \n  \nIf you would like to learn about how social entrepreneurship can be combined with eco-tourism\, join us at our talk\, Thursday (18 November)\, 12:30h UTC +1. \n🎙 Join us at SEtalks #2 where we will discuss several topics: \n\nSocial entrepreneurship\nEco-tourism\nThe combination of SE and Eco-tourism\nThe benefits of combining SE and Eco-tourism\n\n🗣 Our speaker will be: \n\nAykut Subasi\, (Discoversavsat\, Istanbul-Savsat\, 🇹🇷)\n\n👨‍💻 The discussion will be moderated by Stefan Chichevaliev\, Executive Director of the Social Entrepreneurship Observatory (🇲🇰). \n🎥 The webinar will be in English and available through the Zoom platform. \n✍️ Link for registration: http://setalks.org/enrol-to-se-talks-2-season-2-social-entrepreneurship-eco-tourism/. \n🎯 We have launched the series of public discussions “SETalks” with an aim to bring closer the social entrepreneurship field to new and upcoming entrepreneurs and innovators\, to motivate young people to get involved in businesses with values that produce social impact. \n💡 You can find all previous SETalks here: \nhttps://youtube.com/playlist?list=PL9q6DvFEqK5kETE3NnfAOagCQdgmrEJUZ \n🚀 “SETalks” is organized and implemented by the Social Entrepreneurship Observatory. \n 
URL:https://setalks.org/events/s2-se-talks-2-social-entrepreneurship-and-eco-tourism/
LOCATION:Zoom
ATTACH;FMTTYPE=image/png:https://setalks.org/wp-content/uploads/2021/11/S2_SE-TALKS-2-SE-Eco-tourism.png
ORGANIZER;CN="Social%20Entrepreneurship%20Observatory":MAILTO:office@seobservatory.org
END:VEVENT
BEGIN:VEVENT
DTSTART;TZID=Europe/Paris:20211202T123000
DTEND;TZID=Europe/Paris:20211202T133000
DTSTAMP:20260422T100852
CREATED:20211122T084407Z
LAST-MODIFIED:20211122T084509Z
UID:1264-1638448200-1638451800@setalks.org
SUMMARY:S2 -SE TALKS #3: The Principles of Social Enterprises
DESCRIPTION:SETalks #3 – The Principles of Social Entreprises \n02 December from 12:30 PM\, UTC +1 \nZoom platform \n  \n🤩 There are fundamentally different principles underlying social enterprises as opposed to standard businesses and clarity is needed around these principles when working with social enterprises. Many of the social enterprises are not communicating and highlighting these principles which delineate them from commercial businesses. \n📚 There are a lot of case studies investigating the principles of social entrepreneurship and leading a social enterprise. However\, we want to hear first-hand what are those principles from our speakers. \n❓What are the principles of social enterprises? \n❓How to integrate and respect them in social enterprises? \n❓Why social entrepreneurship principles are important? \nTo understand and explore the road of social entrepreneurs we seek the answer to the question: \n  \n❓What are the principles of social entrepreneurship and enterprises and how to communicate them better with the public? \n  \nIf you would like to learn about the road to becoming a social entrepreneur\, join us at our talk\, Thursday (02 December)\, 12:30h UTC +1. \n🎙 Join us at SEtalks #3 where we will discuss several topics: \n\nWhat are the principles of social enterprises?\nWhat are the challenges of social entrepreneurs in communicating these principles?\nHow to better disseminate the values of a social enterprise?\n\n🗣 Our speaker will be: \n\nVictor Branagan\, (Dublin\, 🇮🇪)\n\n👨‍💻 The discussion will be moderated by Stefan Chichevaliev\, Executive Director of the Social Entrepreneurship Observatory (🇲🇰). \n🎥 The webinar will be in English and available through the Zoom platform. \n✍️ Link for registration: http://setalks.org/enrol-to-se-talks-4-season-2-the-road-to-becoming-a-social-entrepreneur/. \n🎯 We have launched the series of public discussions “SETalks” with an aim to bring closer the social entrepreneurship field to new and upcoming entrepreneurs and innovators\, to motivate young people to get involved in businesses with values that produce social impact. \n💡 You can find all previous SETalks here: \nhttps://youtube.com/playlist?list=PL9q6DvFEqK5kETE3NnfAOagCQdgmrEJUZ \n🚀 “SETalks” is organized and implemented by the Social Entrepreneurship Observatory. \n 
URL:https://setalks.org/events/s2-se-talks-3-the-principles-of-social-enterprises/
LOCATION:Zoom
ORGANIZER;CN="Social%20Entrepreneurship%20Observatory":MAILTO:office@seobservatory.org
END:VEVENT
END:VCALENDAR